BEGIN:VCALENDAR
VERSION:2.0
METHOD:PUBLISH
X-WR-CALNAME;VALUE=TEXT:Agenda #6180
PRODID:-//Drupal iCal API//EN
BEGIN:VEVENT
SUMMARY: Samedi 13 janvier : Matinée de l'orientation au lycée Talma de Brunoy
DTSTART: 20240113T080000
DTEND: 20240113T120000
DESCRIPTION: L'AFT Ile-de-France sera présent au lycée Talma&nbsp;situé à Brunoy afin de présenter les métiers du secteur Transport Logistique dans le cadre de la matinée de l'orientation organisée le&nbsp;samedi 13 janvier.
END:VEVENT
END:VCALENDAR
