BEGIN:VCALENDAR
VERSION:2.0
METHOD:PUBLISH
X-WR-CALNAME;VALUE=TEXT:Agenda #6188
PRODID:-//Drupal iCal API//EN
BEGIN:VEVENT
SUMMARY: Nuit de l'Orientation 2024 LYON
DTSTART: 20240119T140000
DTEND: 20240119T210000
DESCRIPTION: La Nuit de l'Orientation 2024, Forum dédié aux élèves, étudiants et demandeurs d'emploi, permettant de découvrir les métiers et filières de formations.
END:VEVENT
END:VCALENDAR
