BEGIN:VCALENDAR
VERSION:2.0
METHOD:PUBLISH
X-WR-CALNAME;VALUE=TEXT:Agenda #6194
PRODID:-//Drupal iCal API//EN
BEGIN:VEVENT
SUMMARY: Lundi 15 janvier: Webinaire "La logistique: les métiers, les formations et les évolutions"
DTSTART: 20240115T090000
DTEND: 20240115T110000
DESCRIPTION: Lundi 15 janvier, l'AFT Ile-de-France animera un webinaire sur le thème :&nbsp;"La logistique: les métiers, les formations et les évolutions" auprès des&nbsp;Chargé.es d'accompagnement social et professionnel du Groupe ARES.
END:VEVENT
END:VCALENDAR
