BEGIN:VCALENDAR
VERSION:2.0
METHOD:PUBLISH
X-WR-CALNAME;VALUE=TEXT:Agenda #6196
PRODID:-//Drupal iCal API//EN
BEGIN:VEVENT
SUMMARY: Mercredi 17 janvier : Forum des métiers à l'ISM de Palaiseau
DTSTART: 20240117T123000
DTEND: 20240117T160000
DESCRIPTION: Le jeudi 17 janvier, l'AFT Ile-de-France sera présente au Forum des métiers organisé par Institution Saint Marie située à Palaiseau permettant aux&nbsp;lycéens de découvrir les métiers et les formations du secteur Transport Logistique
END:VEVENT
END:VCALENDAR
