BEGIN:VCALENDAR
VERSION:2.0
METHOD:PUBLISH
X-WR-CALNAME;VALUE=TEXT:Agenda #6197
PRODID:-//Drupal iCal API//EN
BEGIN:VEVENT
SUMMARY: Forum des métiers &amp; de l'Orientation 2024
DTSTART: 20240120T080000
DTEND: 20240121T120000
DESCRIPTION: Les 19 et 20 janvier 2024 : 2ème édition du Forum des Métiers et de l’orientation Pays de Fougères (35)
END:VEVENT
BEGIN:VEVENT
SUMMARY: Forum des métiers &amp; de l'Orientation 2024
DTSTART: 20240120T080000
DTEND: 20240121T120000
DESCRIPTION: Les 19 et 20 janvier 2024 : 2ème édition du Forum des Métiers et de l’orientation Pays de Fougères (35)
END:VEVENT
BEGIN:VEVENT
SUMMARY: Forum des métiers &amp; de l'Orientation 2024
DTSTART: 20240120T080000
DTEND: 20240121T120000
DESCRIPTION: Les 19 et 20 janvier 2024 : 2ème édition du Forum des Métiers et de l’orientation Pays de Fougères (35)
END:VEVENT
END:VCALENDAR
