BEGIN:VCALENDAR
VERSION:2.0
METHOD:PUBLISH
X-WR-CALNAME;VALUE=TEXT:Agenda #6199
PRODID:-//Drupal iCal API//EN
BEGIN:VEVENT
SUMMARY: Portes ouvertes chez XPO Logistics à Nantes (44)
DTSTART: 20240201T130000
DTEND: 20240201T130000
DESCRIPTION: Jeudi 1er février 2024,

La nouvelle agence XPO Logistics sur Nantes ouvre ses portes avec l'AFT, pour faire découvrir tous les métiers passionnants d'une entreprise de Transport Routier !
END:VEVENT
BEGIN:VEVENT
SUMMARY: Portes ouvertes chez XPO Logistics à Nantes (44)
DTSTART: 20240201T130000
DTEND: 20240201T130000
DESCRIPTION: Jeudi 1er février 2024,

La nouvelle agence XPO Logistics sur Nantes ouvre ses portes avec l'AFT, pour faire découvrir tous les métiers passionnants d'une entreprise de Transport Routier !
END:VEVENT
BEGIN:VEVENT
SUMMARY: Portes ouvertes chez XPO Logistics à Nantes (44)
DTSTART: 20240201T130000
DTEND: 20240201T130000
DESCRIPTION: Jeudi 1er février 2024,

La nouvelle agence XPO Logistics sur Nantes ouvre ses portes avec l'AFT, pour faire découvrir tous les métiers passionnants d'une entreprise de Transport Routier !
END:VEVENT
BEGIN:VEVENT
SUMMARY: Portes ouvertes chez XPO Logistics à Nantes (44)
DTSTART: 20240201T130000
DTEND: 20240201T130000
DESCRIPTION: Jeudi 1er février 2024,

La nouvelle agence XPO Logistics sur Nantes ouvre ses portes avec l'AFT, pour faire découvrir tous les métiers passionnants d'une entreprise de Transport Routier !
END:VEVENT
END:VCALENDAR
