BEGIN:VCALENDAR
VERSION:2.0
METHOD:PUBLISH
X-WR-CALNAME;VALUE=TEXT:Agenda #6202
PRODID:-//Drupal iCal API//EN
BEGIN:VEVENT
SUMMARY: Portes ouvertes chez XPO Logistics à Saint Sylvain d'Anjou (49)
DTSTART: 20240130T130000
DTEND: 20240130T130000
DESCRIPTION: Mardi 30 janvier 2024,

XPO Logistics de Saint Sylvain d'Anjou ouvre ses portes avec l'AFT, pour faire découvrir tous les métiers passionnants d'une entreprise de Transport Routier !
END:VEVENT
BEGIN:VEVENT
SUMMARY: Portes ouvertes chez XPO Logistics à Saint Sylvain d'Anjou (49)
DTSTART: 20240130T130000
DTEND: 20240130T130000
DESCRIPTION: Mardi 30 janvier 2024,

XPO Logistics de Saint Sylvain d'Anjou ouvre ses portes avec l'AFT, pour faire découvrir tous les métiers passionnants d'une entreprise de Transport Routier !
END:VEVENT
BEGIN:VEVENT
SUMMARY: Portes ouvertes chez XPO Logistics à Saint Sylvain d'Anjou (49)
DTSTART: 20240130T130000
DTEND: 20240130T130000
DESCRIPTION: Mardi 30 janvier 2024,

XPO Logistics de Saint Sylvain d'Anjou ouvre ses portes avec l'AFT, pour faire découvrir tous les métiers passionnants d'une entreprise de Transport Routier !
END:VEVENT
BEGIN:VEVENT
SUMMARY: Portes ouvertes chez XPO Logistics à Saint Sylvain d'Anjou (49)
DTSTART: 20240130T130000
DTEND: 20240130T130000
DESCRIPTION: Mardi 30 janvier 2024,

XPO Logistics de Saint Sylvain d'Anjou ouvre ses portes avec l'AFT, pour faire découvrir tous les métiers passionnants d'une entreprise de Transport Routier !
END:VEVENT
END:VCALENDAR
