BEGIN:VCALENDAR
VERSION:2.0
METHOD:PUBLISH
X-WR-CALNAME;VALUE=TEXT:Agenda #6208
PRODID:-//Drupal iCal API//EN
BEGIN:VEVENT
SUMMARY: Portes ouvertes XPO Rosières Aux Salines (54) le 1er février 2024
DTSTART: 20240201T080000
DTEND: 20240201T160000
DESCRIPTION: XPO Logistics ouvre ses portes le 1er février 2024&nbsp;de 9h à 17h&nbsp;pour faire découvrir les métiers du transport de marchandises et recruter pour des postes à pourvoir.
END:VEVENT
BEGIN:VEVENT
SUMMARY: Portes ouvertes XPO Rosières Aux Salines (54) le 1er février 2024
DTSTART: 20240201T080000
DTEND: 20240201T160000
DESCRIPTION: XPO Logistics ouvre ses portes le 1er février 2024&nbsp;de 9h à 17h&nbsp;pour faire découvrir les métiers du transport de marchandises et recruter pour des postes à pourvoir.
END:VEVENT
END:VCALENDAR
