BEGIN:VCALENDAR
VERSION:2.0
METHOD:PUBLISH
X-WR-CALNAME;VALUE=TEXT:Agenda #6219
PRODID:-//Drupal iCal API//EN
BEGIN:VEVENT
SUMMARY: Saint Jean de Vedas : La matinée du Transport
DTSTART: 20240123T070000
DTEND: 20240123T070000
DESCRIPTION: En partenariat avec la FNTR, l'AFT et en présence de l'OPCO Mobilité, Pôle emploi du bassin de Montpellier organise une matinée du transport.

&nbsp;

RDV le Mardi 23 janvier prochain à 8h au Pôle Emploi Mas de Grille à St Jean de Vedas (34)

&nbsp;

&nbsp;

&nbsp;
END:VEVENT
BEGIN:VEVENT
SUMMARY: Saint Jean de Vedas : La matinée du Transport
DTSTART: 20240123T070000
DTEND: 20240123T070000
DESCRIPTION: En partenariat avec la FNTR, l'AFT et en présence de l'OPCO Mobilité, Pôle emploi du bassin de Montpellier organise une matinée du transport.

&nbsp;

RDV le Mardi 23 janvier prochain à 8h au Pôle Emploi Mas de Grille à St Jean de Vedas (34)

&nbsp;

&nbsp;

&nbsp;
END:VEVENT
END:VCALENDAR
