BEGIN:VCALENDAR
VERSION:2.0
METHOD:PUBLISH
X-WR-CALNAME;VALUE=TEXT:Agenda #6220
PRODID:-//Drupal iCal API//EN
BEGIN:VEVENT
SUMMARY: Journée Portes Ouvertes XPO La Croix Saint Ouen (60)
DTSTART: 20240312T090000
DTEND: 20240312T150000
DESCRIPTION: En collaboration avec l’AFT, l’agence XPO Logistics à La Croix Saint Ouen ouvre ses portes le 12 mars&nbsp;2024 de 10h à 16h afin de faire découvrir les métiers du secteur Transport Logistique et recruter ses futurs collaborateurs&nbsp;!
END:VEVENT
BEGIN:VEVENT
SUMMARY: Journée Portes Ouvertes XPO La Croix Saint Ouen (60)
DTSTART: 20240312T090000
DTEND: 20240312T150000
DESCRIPTION: En collaboration avec l’AFT, l’agence XPO Logistics à La Croix Saint Ouen ouvre ses portes le 12 mars&nbsp;2024 de 10h à 16h afin de faire découvrir les métiers du secteur Transport Logistique et recruter ses futurs collaborateurs&nbsp;!
END:VEVENT
BEGIN:VEVENT
SUMMARY: Journée Portes Ouvertes XPO La Croix Saint Ouen (60)
DTSTART: 20240312T090000
DTEND: 20240312T150000
DESCRIPTION: En collaboration avec l’AFT, l’agence XPO Logistics à La Croix Saint Ouen ouvre ses portes le 12 mars&nbsp;2024 de 10h à 16h afin de faire découvrir les métiers du secteur Transport Logistique et recruter ses futurs collaborateurs&nbsp;!
END:VEVENT
END:VCALENDAR
