BEGIN:VCALENDAR
VERSION:2.0
METHOD:PUBLISH
X-WR-CALNAME;VALUE=TEXT:Agenda #6222
PRODID:-//Drupal iCal API//EN
BEGIN:VEVENT
SUMMARY: Journée Portes Ouvertes XPO ARRAS (62)
DTSTART: 20240130T080000
DTEND: 20240130T160000
DESCRIPTION: En collaboration avec l’AFT, l’agence XPO Logistics d’Arras vous ouvre ses portes le 30 janvier 2024 de 9h à 12h et de 14h à 17h afin de vous faire découvrir les métiers du secteur Transport Routier de Marchandises et de recruter ses futurs collaborateurs&nbsp;!
END:VEVENT
BEGIN:VEVENT
SUMMARY: Journée Portes Ouvertes XPO ARRAS (62)
DTSTART: 20240130T080000
DTEND: 20240130T160000
DESCRIPTION: En collaboration avec l’AFT, l’agence XPO Logistics d’Arras vous ouvre ses portes le 30 janvier 2024 de 9h à 12h et de 14h à 17h afin de vous faire découvrir les métiers du secteur Transport Routier de Marchandises et de recruter ses futurs collaborateurs&nbsp;!
END:VEVENT
BEGIN:VEVENT
SUMMARY: Journée Portes Ouvertes XPO ARRAS (62)
DTSTART: 20240130T080000
DTEND: 20240130T160000
DESCRIPTION: En collaboration avec l’AFT, l’agence XPO Logistics d’Arras vous ouvre ses portes le 30 janvier 2024 de 9h à 12h et de 14h à 17h afin de vous faire découvrir les métiers du secteur Transport Routier de Marchandises et de recruter ses futurs collaborateurs&nbsp;!
END:VEVENT
END:VCALENDAR
