BEGIN:VCALENDAR
VERSION:2.0
METHOD:PUBLISH
X-WR-CALNAME;VALUE=TEXT:Agenda #6224
PRODID:-//Drupal iCal API//EN
BEGIN:VEVENT
SUMMARY: Journée Portes Ouvertes XPO CALAIS (62)
DTSTART: 20240201T090000
DTEND: 20240201T150000
DESCRIPTION: En collaboration avec l’AFT, l’agence XPO Logistics de Calais vous ouvre ses portes le 1er février 2024 de 10h à 16h afin de vous faire découvrir les métiers du secteur Transport Routier de Marchandises et de recruter ses futurs collaborateurs&nbsp;!
END:VEVENT
BEGIN:VEVENT
SUMMARY: Journée Portes Ouvertes XPO CALAIS (62)
DTSTART: 20240201T090000
DTEND: 20240201T150000
DESCRIPTION: En collaboration avec l’AFT, l’agence XPO Logistics de Calais vous ouvre ses portes le 1er février 2024 de 10h à 16h afin de vous faire découvrir les métiers du secteur Transport Routier de Marchandises et de recruter ses futurs collaborateurs&nbsp;!
END:VEVENT
BEGIN:VEVENT
SUMMARY: Journée Portes Ouvertes XPO CALAIS (62)
DTSTART: 20240201T090000
DTEND: 20240201T150000
DESCRIPTION: En collaboration avec l’AFT, l’agence XPO Logistics de Calais vous ouvre ses portes le 1er février 2024 de 10h à 16h afin de vous faire découvrir les métiers du secteur Transport Routier de Marchandises et de recruter ses futurs collaborateurs&nbsp;!
END:VEVENT
END:VCALENDAR
