BEGIN:VCALENDAR
VERSION:2.0
METHOD:PUBLISH
X-WR-CALNAME;VALUE=TEXT:Agenda #6234
PRODID:-//Drupal iCal API//EN
BEGIN:VEVENT
SUMMARY: Carcassonne : Salon ID METIERS
DTSTART: 20240202T080000
DTEND: 20240202T080000
DESCRIPTION: L'AFT Occitanie participera au salon ID METIERS de Carcassonne le vendredi 2 février prochain.&nbsp;

Evènement&nbsp;spécialement imaginé&nbsp;avec et pour les jeunes, pour les aider à construire leur avenir. Les élèves découvriront des métiers et des formations qui les intéressent, des professionnels qui les accompagneront dans leur orientation.

&nbsp;

Plus d'infos&nbsp;
END:VEVENT
BEGIN:VEVENT
SUMMARY: Carcassonne : Salon ID METIERS
DTSTART: 20240202T080000
DTEND: 20240202T080000
DESCRIPTION: L'AFT Occitanie participera au salon ID METIERS de Carcassonne le vendredi 2 février prochain.&nbsp;

Evènement&nbsp;spécialement imaginé&nbsp;avec et pour les jeunes, pour les aider à construire leur avenir. Les élèves découvriront des métiers et des formations qui les intéressent, des professionnels qui les accompagneront dans leur orientation.

&nbsp;

Plus d'infos&nbsp;
END:VEVENT
BEGIN:VEVENT
SUMMARY: Carcassonne : Salon ID METIERS
DTSTART: 20240202T080000
DTEND: 20240202T080000
DESCRIPTION: L'AFT Occitanie participera au salon ID METIERS de Carcassonne le vendredi 2 février prochain.&nbsp;

Evènement&nbsp;spécialement imaginé&nbsp;avec et pour les jeunes, pour les aider à construire leur avenir. Les élèves découvriront des métiers et des formations qui les intéressent, des professionnels qui les accompagneront dans leur orientation.

&nbsp;

Plus d'infos&nbsp;
END:VEVENT
END:VCALENDAR
