BEGIN:VCALENDAR
VERSION:2.0
METHOD:PUBLISH
X-WR-CALNAME;VALUE=TEXT:Agenda #6236
PRODID:-//Drupal iCal API//EN
BEGIN:VEVENT
SUMMARY: ETIQ - Nos outils au service de votre Démarche RSE
DTSTART: 20240219T130000
DTEND: 20240226T160000
DESCRIPTION: ETIQ (Environnement - Transparence - Impact - Qualité)

Vous cherchez à mettre en œuvre une Démarche RSE et recherchez des outils et une méthode pour suivre vos actions et les valoriser ?

La méthodologie ETIQ&nbsp;a été développée dans cet objectif, pour une approche harmonisée et reconnue au sein de la Branche. Nous vous proposons plusieurs fois par an des sessions de "prise en main" des outils que l'AFT Transport &amp; Logistique a développés pour accompagner la mise en œuvre de votre Démarche RSE.
END:VEVENT
BEGIN:VEVENT
SUMMARY: ETIQ - Nos outils au service de votre Démarche RSE
DTSTART: 20240219T130000
DTEND: 20240226T160000
DESCRIPTION: ETIQ (Environnement - Transparence - Impact - Qualité)

Vous cherchez à mettre en œuvre une Démarche RSE et recherchez des outils et une méthode pour suivre vos actions et les valoriser ?

La méthodologie ETIQ&nbsp;a été développée dans cet objectif, pour une approche harmonisée et reconnue au sein de la Branche. Nous vous proposons plusieurs fois par an des sessions de "prise en main" des outils que l'AFT Transport &amp; Logistique a développés pour accompagner la mise en œuvre de votre Démarche RSE.
END:VEVENT
BEGIN:VEVENT
SUMMARY: ETIQ - Nos outils au service de votre Démarche RSE
DTSTART: 20240219T130000
DTEND: 20240226T160000
DESCRIPTION: ETIQ (Environnement - Transparence - Impact - Qualité)

Vous cherchez à mettre en œuvre une Démarche RSE et recherchez des outils et une méthode pour suivre vos actions et les valoriser ?

La méthodologie ETIQ&nbsp;a été développée dans cet objectif, pour une approche harmonisée et reconnue au sein de la Branche. Nous vous proposons plusieurs fois par an des sessions de "prise en main" des outils que l'AFT Transport &amp; Logistique a développés pour accompagner la mise en œuvre de votre Démarche RSE.
END:VEVENT
BEGIN:VEVENT
SUMMARY: ETIQ - Nos outils au service de votre Démarche RSE
DTSTART: 20240219T130000
DTEND: 20240226T160000
DESCRIPTION: ETIQ (Environnement - Transparence - Impact - Qualité)

Vous cherchez à mettre en œuvre une Démarche RSE et recherchez des outils et une méthode pour suivre vos actions et les valoriser ?

La méthodologie ETIQ&nbsp;a été développée dans cet objectif, pour une approche harmonisée et reconnue au sein de la Branche. Nous vous proposons plusieurs fois par an des sessions de "prise en main" des outils que l'AFT Transport &amp; Logistique a développés pour accompagner la mise en œuvre de votre Démarche RSE.
END:VEVENT
END:VCALENDAR
