BEGIN:VCALENDAR
VERSION:2.0
METHOD:PUBLISH
X-WR-CALNAME;VALUE=TEXT:Agenda #6245
PRODID:-//Drupal iCal API//EN
BEGIN:VEVENT
SUMMARY: Forum du Collège Stendhal à Toulouse
DTSTART: 20240205T130000
DTEND: 20240205T130000
DESCRIPTION: L'AFT Occitanie participera le Lundi 5 février prochain de 14h à 17h au Forum qu'organise le Collège Stendhal de Toulouse pour ses collégiens.&nbsp;
END:VEVENT
BEGIN:VEVENT
SUMMARY: Forum du Collège Stendhal à Toulouse
DTSTART: 20240205T130000
DTEND: 20240205T130000
DESCRIPTION: L'AFT Occitanie participera le Lundi 5 février prochain de 14h à 17h au Forum qu'organise le Collège Stendhal de Toulouse pour ses collégiens.&nbsp;
END:VEVENT
BEGIN:VEVENT
SUMMARY: Forum du Collège Stendhal à Toulouse
DTSTART: 20240205T130000
DTEND: 20240205T130000
DESCRIPTION: L'AFT Occitanie participera le Lundi 5 février prochain de 14h à 17h au Forum qu'organise le Collège Stendhal de Toulouse pour ses collégiens.&nbsp;
END:VEVENT
END:VCALENDAR
