BEGIN:VCALENDAR
VERSION:2.0
METHOD:PUBLISH
X-WR-CALNAME;VALUE=TEXT:Agenda #6468
PRODID:-//Drupal iCal API//EN
BEGIN:VEVENT
SUMMARY: Vendredi 24 mai : Forum des métiers au Collège George Sand de Mouroux
DTSTART: 20240524T120000
DTEND: 20240524T140000
DESCRIPTION: Les élèves du niveau 4ème du Collège George Sand situé à Mouroux découvriront les métiers du transport et de la logistique dans le cadre du forum des métiers organisé par l'établissement.
END:VEVENT
END:VCALENDAR
