BEGIN:VCALENDAR
VERSION:2.0
METHOD:PUBLISH
X-WR-CALNAME;VALUE=TEXT:Agenda #6470
PRODID:-//Drupal iCal API//EN
BEGIN:VEVENT
SUMMARY: Mardi 28 mai : 14ème édition du Forum de l’emploi de Boissy-Saint-Léger
DTSTART: 20240528T073000
DTEND: 20240528T120000
DESCRIPTION: Dans le cadre de la découverte des métiers et des nombreuses opportunités du secteur transport - logistique, L'AFT Ile-de-France sera présente&nbsp;à la 14ème édition&nbsp;du&nbsp;Forum&nbsp;de&nbsp;l’emploi&nbsp;de&nbsp;Boissy-Saint-Léger&nbsp;organisée par&nbsp;l'établissement public territorial Grand Paris Sud Est Avenir (GPSEA), en collaboration avec la ville&nbsp;de&nbsp;Boissy-Saint-Léger et la Mission Locale&nbsp;du&nbsp;Plateau Briard. &nbsp;
END:VEVENT
END:VCALENDAR
