BEGIN:VCALENDAR
VERSION:2.0
METHOD:PUBLISH
X-WR-CALNAME;VALUE=TEXT:Agenda #6473
PRODID:-//Drupal iCal API//EN
BEGIN:VEVENT
SUMMARY: Mercredi 29 mai 2024 : Rencontre des professionnels au Lycée Blaise Pascal de Brie Comte Robert
DTSTART: 20240529T070000
DTEND: 20240529T100000
DESCRIPTION: Le mercredi 29 mai, les élèves des collèges Georges Brassens et Arthur Chaussy situés à Brie Comte Robert découvriront les métiers du transport de la logistique lors d'une rencontre des professionnels organisée au Lycée Blaise Pascal.
END:VEVENT
END:VCALENDAR
