BEGIN:VCALENDAR
VERSION:2.0
METHOD:PUBLISH
X-WR-CALNAME;VALUE=TEXT:Agenda #6483
PRODID:-//Drupal iCal API//EN
BEGIN:VEVENT
SUMMARY: Montpellier : Remise du 1er prix aux élèves de 3eme PM du Lycée Jean Mermoz
DTSTART: 20240520T220000
DTEND: 20240520T220000
DESCRIPTION: Dans le cadre du Jeu-Concours organisé lors de la semaine Transport Logistique en Mouvement&nbsp;qui a eu lieu du 13 au 17 novembre dernier&nbsp;et suite à la production que nous a retourné le Lycée Jean Mermoz de Montpellier suite à la visite de l'entreprise KEOLIS, le jury ira remettre le 1er&nbsp;prix&nbsp;dans la Catégorie Collège aux élèves de 3eme Prépa métiers le Mardi 21 mai prochain.
END:VEVENT
BEGIN:VEVENT
SUMMARY: Montpellier : Remise du 1er prix aux élèves de 3eme PM du Lycée Jean Mermoz
DTSTART: 20240520T220000
DTEND: 20240520T220000
DESCRIPTION: Dans le cadre du Jeu-Concours organisé lors de la semaine Transport Logistique en Mouvement&nbsp;qui a eu lieu du 13 au 17 novembre dernier&nbsp;et suite à la production que nous a retourné le Lycée Jean Mermoz de Montpellier suite à la visite de l'entreprise KEOLIS, le jury ira remettre le 1er&nbsp;prix&nbsp;dans la Catégorie Collège aux élèves de 3eme Prépa métiers le Mardi 21 mai prochain.
END:VEVENT
BEGIN:VEVENT
SUMMARY: Montpellier : Remise du 1er prix aux élèves de 3eme PM du Lycée Jean Mermoz
DTSTART: 20240520T220000
DTEND: 20240520T220000
DESCRIPTION: Dans le cadre du Jeu-Concours organisé lors de la semaine Transport Logistique en Mouvement&nbsp;qui a eu lieu du 13 au 17 novembre dernier&nbsp;et suite à la production que nous a retourné le Lycée Jean Mermoz de Montpellier suite à la visite de l'entreprise KEOLIS, le jury ira remettre le 1er&nbsp;prix&nbsp;dans la Catégorie Collège aux élèves de 3eme Prépa métiers le Mardi 21 mai prochain.
END:VEVENT
END:VCALENDAR
