BEGIN:VCALENDAR
VERSION:2.0
METHOD:PUBLISH
X-WR-CALNAME;VALUE=TEXT:Agenda #6877
PRODID:-//Drupal iCal API//EN
BEGIN:VEVENT
SUMMARY: Transport Logistique en mouvement dans le Grand Est !
DTSTART: 20241117T230000
DTEND: 20241121T230000
DESCRIPTION: 2ème édition du Transport Logistique en mouvement : une nouvelle semaine dédiée&nbsp;à la découverte des métiers et au recrutement
END:VEVENT
BEGIN:VEVENT
SUMMARY: Transport Logistique en mouvement dans le Grand Est !
DTSTART: 20241117T230000
DTEND: 20241121T230000
DESCRIPTION: 2ème édition du Transport Logistique en mouvement : une nouvelle semaine dédiée&nbsp;à la découverte des métiers et au recrutement
END:VEVENT
END:VCALENDAR
