BEGIN:VCALENDAR
VERSION:2.0
METHOD:PUBLISH
X-WR-CALNAME;VALUE=TEXT:Agenda #7146
PRODID:-//Drupal iCal API//EN
BEGIN:VEVENT
SUMMARY: Grenade sur Garonne : Forum découverte métiers
DTSTART: 20250123T080000
DTEND: 20250123T080000
DESCRIPTION: L'AFT Occitanie participera au forum des métiers organisé par le Collège Grand Selve à Grenade sur Garonne le jeudi 23 janvier de 9h à 17h.&nbsp;
END:VEVENT
BEGIN:VEVENT
SUMMARY: Grenade sur Garonne : Forum découverte métiers
DTSTART: 20250123T080000
DTEND: 20250123T080000
DESCRIPTION: L'AFT Occitanie participera au forum des métiers organisé par le Collège Grand Selve à Grenade sur Garonne le jeudi 23 janvier de 9h à 17h.&nbsp;
END:VEVENT
BEGIN:VEVENT
SUMMARY: Grenade sur Garonne : Forum découverte métiers
DTSTART: 20250123T080000
DTEND: 20250123T080000
DESCRIPTION: L'AFT Occitanie participera au forum des métiers organisé par le Collège Grand Selve à Grenade sur Garonne le jeudi 23 janvier de 9h à 17h.&nbsp;
END:VEVENT
END:VCALENDAR
