BEGIN:VCALENDAR
VERSION:2.0
METHOD:PUBLISH
X-WR-CALNAME;VALUE=TEXT:Agenda #7149
PRODID:-//Drupal iCal API//EN
BEGIN:VEVENT
SUMMARY: Forum des Formations et des Métiers au CIO de THIERS le 14 Janvier 2025
DTSTART: 20250114T080000
DTEND: 20250114T150000
DESCRIPTION: Le CIO de Thiers et les EPLE du bassin de Thiers Ambert organisent le&nbsp;"Forum des Formations et des Métiers" à destination des élèves&nbsp;de 3éme

A la salle&nbsp;Jean Couzon&nbsp;à Courpière (avenue Pierre de Coubertin)&nbsp;

Le&nbsp;Mardi 14 Janvier 2025

De 9h à 12h et de 14h à 16h.
END:VEVENT
END:VCALENDAR
