BEGIN:VCALENDAR
VERSION:2.0
METHOD:PUBLISH
X-WR-CALNAME;VALUE=TEXT:Agenda #7327
PRODID:-//Drupal iCal API//EN
BEGIN:VEVENT
SUMMARY: Le Frigo Tour 2025 arrive en Grand Est !
DTSTART: 20250402T063000
DTEND: 20250402T143000
DESCRIPTION: ❄️ Retour du Frigo Tour pour sa 2ᵉ édition !&nbsp;
Nous avons l'honneur d'accueillir cette année le Village du Froid dans la région Grand Est lors de la 11ème étape !

📅 Rendez-vous le mercredi 2 avril 2025 au Lycée Professionnel Privé Saint Michel&nbsp;&nbsp;à Art-Sur-Meurthe (54).

La Chaîne Logistique du Froid, Transfrigoroute France, l'AFT Transport Logistique&nbsp;et tous les professionnels présents vous invitent à explorer les métiers du froid et à rencontrer des experts du secteur.
&nbsp;
END:VEVENT
BEGIN:VEVENT
SUMMARY: Le Frigo Tour 2025 arrive en Grand Est !
DTSTART: 20250402T063000
DTEND: 20250402T143000
DESCRIPTION: ❄️ Retour du Frigo Tour pour sa 2ᵉ édition !&nbsp;
Nous avons l'honneur d'accueillir cette année le Village du Froid dans la région Grand Est lors de la 11ème étape !

📅 Rendez-vous le mercredi 2 avril 2025 au Lycée Professionnel Privé Saint Michel&nbsp;&nbsp;à Art-Sur-Meurthe (54).

La Chaîne Logistique du Froid, Transfrigoroute France, l'AFT Transport Logistique&nbsp;et tous les professionnels présents vous invitent à explorer les métiers du froid et à rencontrer des experts du secteur.
&nbsp;
END:VEVENT
BEGIN:VEVENT
SUMMARY: Le Frigo Tour 2025 arrive en Grand Est !
DTSTART: 20250402T063000
DTEND: 20250402T143000
DESCRIPTION: ❄️ Retour du Frigo Tour pour sa 2ᵉ édition !&nbsp;
Nous avons l'honneur d'accueillir cette année le Village du Froid dans la région Grand Est lors de la 11ème étape !

📅 Rendez-vous le mercredi 2 avril 2025 au Lycée Professionnel Privé Saint Michel&nbsp;&nbsp;à Art-Sur-Meurthe (54).

La Chaîne Logistique du Froid, Transfrigoroute France, l'AFT Transport Logistique&nbsp;et tous les professionnels présents vous invitent à explorer les métiers du froid et à rencontrer des experts du secteur.
&nbsp;
END:VEVENT
BEGIN:VEVENT
SUMMARY: Le Frigo Tour 2025 arrive en Grand Est !
DTSTART: 20250402T063000
DTEND: 20250402T143000
DESCRIPTION: ❄️ Retour du Frigo Tour pour sa 2ᵉ édition !&nbsp;
Nous avons l'honneur d'accueillir cette année le Village du Froid dans la région Grand Est lors de la 11ème étape !

📅 Rendez-vous le mercredi 2 avril 2025 au Lycée Professionnel Privé Saint Michel&nbsp;&nbsp;à Art-Sur-Meurthe (54).

La Chaîne Logistique du Froid, Transfrigoroute France, l'AFT Transport Logistique&nbsp;et tous les professionnels présents vous invitent à explorer les métiers du froid et à rencontrer des experts du secteur.
&nbsp;
END:VEVENT
END:VCALENDAR
