BEGIN:VCALENDAR
VERSION:2.0
METHOD:PUBLISH
X-WR-CALNAME;VALUE=TEXT:Agenda #7331
PRODID:-//Drupal iCal API//EN
BEGIN:VEVENT
SUMMARY: Forum Emploi
DTSTART: 20250320T090000
DTEND: 20250320T140000
DESCRIPTION: Venez découvrir les offres d'emploi proposées par la ZAC de VATRY et découvrir les métiers du Transport et de la Logistique de manière interactive !
END:VEVENT
END:VCALENDAR
