BEGIN:VCALENDAR
VERSION:2.0
METHOD:PUBLISH
X-WR-CALNAME;VALUE=TEXT:Agenda #7332
PRODID:-//Drupal iCal API//EN
BEGIN:VEVENT
SUMMARY: Forum EMPLOI et ALTERNANCE 2025
DTSTART: 20250403T080000
DTEND: 20250403T160000
DESCRIPTION: RENCONTRES D’ENTREPRISES ET DE RECRUTEURS | OFFRES D’EMPLOIS | DÉMONSTRATIONS MÉTIERS | CONFÉRENCES | ATELIERS ...
END:VEVENT
END:VCALENDAR
