BEGIN:VCALENDAR
VERSION:2.0
METHOD:PUBLISH
X-WR-CALNAME;VALUE=TEXT:Agenda #7336
PRODID:-//Drupal iCal API//EN
BEGIN:VEVENT
SUMMARY: Journée Portes Ouvertes XPO Logistics Monchy-Le-Preux (62)
DTSTART: 20250313T080000
DTEND: 20250313T160000
DESCRIPTION: En partenariat avec l'AFT Hauts-de-France, l'agence&nbsp;XPO de Monchy-Le-Preux (62) vous ouvre ses portes de 9h à 12h et de 14h à 17h&nbsp;!
END:VEVENT
BEGIN:VEVENT
SUMMARY: Journée Portes Ouvertes XPO Logistics Monchy-Le-Preux (62)
DTSTART: 20250313T080000
DTEND: 20250313T160000
DESCRIPTION: En partenariat avec l'AFT Hauts-de-France, l'agence&nbsp;XPO de Monchy-Le-Preux (62) vous ouvre ses portes de 9h à 12h et de 14h à 17h&nbsp;!
END:VEVENT
BEGIN:VEVENT
SUMMARY: Journée Portes Ouvertes XPO Logistics Monchy-Le-Preux (62)
DTSTART: 20250313T080000
DTEND: 20250313T160000
DESCRIPTION: En partenariat avec l'AFT Hauts-de-France, l'agence&nbsp;XPO de Monchy-Le-Preux (62) vous ouvre ses portes de 9h à 12h et de 14h à 17h&nbsp;!
END:VEVENT
END:VCALENDAR
