BEGIN:VCALENDAR
VERSION:2.0
METHOD:PUBLISH
X-WR-CALNAME;VALUE=TEXT:Agenda #7337
PRODID:-//Drupal iCal API//EN
BEGIN:VEVENT
SUMMARY: Journée Portes Ouvertes XPO Logistics La Croix-Saint-Ouen (60)
DTSTART: 20250314T090000
DTEND: 20250314T150000
DESCRIPTION: En partenariat avec l'AFT Hauts-de-France, l'agence&nbsp;XPO de La Croix-Saint-Ouen (60)&nbsp;vous ouvre ses portes de 10 h à 16 h&nbsp;!
END:VEVENT
BEGIN:VEVENT
SUMMARY: Journée Portes Ouvertes XPO Logistics La Croix-Saint-Ouen (60)
DTSTART: 20250314T090000
DTEND: 20250314T150000
DESCRIPTION: En partenariat avec l'AFT Hauts-de-France, l'agence&nbsp;XPO de La Croix-Saint-Ouen (60)&nbsp;vous ouvre ses portes de 10 h à 16 h&nbsp;!
END:VEVENT
BEGIN:VEVENT
SUMMARY: Journée Portes Ouvertes XPO Logistics La Croix-Saint-Ouen (60)
DTSTART: 20250314T090000
DTEND: 20250314T150000
DESCRIPTION: En partenariat avec l'AFT Hauts-de-France, l'agence&nbsp;XPO de La Croix-Saint-Ouen (60)&nbsp;vous ouvre ses portes de 10 h à 16 h&nbsp;!
END:VEVENT
END:VCALENDAR
