BEGIN:VCALENDAR
VERSION:2.0
METHOD:PUBLISH
X-WR-CALNAME;VALUE=TEXT:Agenda #7341
PRODID:-//Drupal iCal API//EN
BEGIN:VEVENT
SUMMARY: Jeudi 06 mars : Forum des métiers et de l'orientation à Villeneuve St Georges
DTSTART: 20250306T083000
DTEND: 20250306T153000
DESCRIPTION: L'AFT Ile-de-France sera présente à la 3ième édition du Forum des métiers et de l'orientation organisé par le Comité Local Ecole Entreprises du district 10&nbsp;en partenariat avec l’éducation nationale, la mairie de Villeneuve Saint Georges, et le territoire Grand Orly Seine Bièvre le jeudi 6 mars 2025 à Villeneuve St Georges.

Les élèves de 3ème de trois collèges de Villeneuve - Saint - Georges et d’un collège de Valenton se succèderont au cours de la journée et auront ainsi l'occasion de découvrir les métiers et les formations du secteur Transport Logistique
END:VEVENT
END:VCALENDAR
