BEGIN:VCALENDAR
VERSION:2.0
METHOD:PUBLISH
X-WR-CALNAME;VALUE=TEXT:Agenda #7412
PRODID:-//Drupal iCal API//EN
BEGIN:VEVENT
SUMMARY: Salon de l'alternance, de l'apprentissage et de l'emploi Bourg-lès-Valence
DTSTART: 20250430T110000
DTEND: 20250430T150000
DESCRIPTION: 8ème édition du Salon de l'Alternance, de l'Apprentissage et de l'Emploi, le 30 avril 2025, à Bourg-lès-Valence (26)
END:VEVENT
END:VCALENDAR
