BEGIN:VCALENDAR
VERSION:2.0
METHOD:PUBLISH
X-WR-CALNAME;VALUE=TEXT:Agenda #7414
PRODID:-//Drupal iCal API//EN
BEGIN:VEVENT
SUMMARY: Castelnaudary : Carrefour des métiers et des formations
DTSTART: 20250401T070000
DTEND: 20250401T070000
DESCRIPTION: L'AFT Occitanie sera présente au Carrefour des métiers et des formations le Mardi 1er avril de 9h à 12h pour présenter les métiers et les formations du transport et de la logistique&nbsp;
END:VEVENT
BEGIN:VEVENT
SUMMARY: Castelnaudary : Carrefour des métiers et des formations
DTSTART: 20250401T070000
DTEND: 20250401T070000
DESCRIPTION: L'AFT Occitanie sera présente au Carrefour des métiers et des formations le Mardi 1er avril de 9h à 12h pour présenter les métiers et les formations du transport et de la logistique&nbsp;
END:VEVENT
BEGIN:VEVENT
SUMMARY: Castelnaudary : Carrefour des métiers et des formations
DTSTART: 20250401T070000
DTEND: 20250401T070000
DESCRIPTION: L'AFT Occitanie sera présente au Carrefour des métiers et des formations le Mardi 1er avril de 9h à 12h pour présenter les métiers et les formations du transport et de la logistique&nbsp;
END:VEVENT
BEGIN:VEVENT
SUMMARY: Castelnaudary : Carrefour des métiers et des formations
DTSTART: 20250401T070000
DTEND: 20250401T070000
DESCRIPTION: L'AFT Occitanie sera présente au Carrefour des métiers et des formations le Mardi 1er avril de 9h à 12h pour présenter les métiers et les formations du transport et de la logistique&nbsp;
END:VEVENT
END:VCALENDAR
