BEGIN:VCALENDAR
VERSION:2.0
METHOD:PUBLISH
X-WR-CALNAME;VALUE=TEXT:Agenda #7417
PRODID:-//Drupal iCal API//EN
BEGIN:VEVENT
SUMMARY: Forum Transport et Logistique à Fameck
DTSTART: 20250326T230000
DTEND: 20250327T230000
DESCRIPTION: Retrouvez l'AFT au forum&nbsp;Transport et Logistique au Lycée Professionnel Jean Macé à Fameck en Moselle le jeudi 27 et vendredi 28 mars

&nbsp;
END:VEVENT
BEGIN:VEVENT
SUMMARY: Forum Transport et Logistique à Fameck
DTSTART: 20250326T230000
DTEND: 20250327T230000
DESCRIPTION: Retrouvez l'AFT au forum&nbsp;Transport et Logistique au Lycée Professionnel Jean Macé à Fameck en Moselle le jeudi 27 et vendredi 28 mars

&nbsp;
END:VEVENT
BEGIN:VEVENT
SUMMARY: Forum Transport et Logistique à Fameck
DTSTART: 20250326T230000
DTEND: 20250327T230000
DESCRIPTION: Retrouvez l'AFT au forum&nbsp;Transport et Logistique au Lycée Professionnel Jean Macé à Fameck en Moselle le jeudi 27 et vendredi 28 mars

&nbsp;
END:VEVENT
END:VCALENDAR
