BEGIN:VCALENDAR
VERSION:2.0
METHOD:PUBLISH
X-WR-CALNAME;VALUE=TEXT:Agenda #7422
PRODID:-//Drupal iCal API//EN
BEGIN:VEVENT
SUMMARY: Les Métiers en Tournée : L'AFT vous donne rendez-vous sur l'étape de L'Aigle (61)
DTSTART: 20250401T070000
DTEND: 20250402T150000
DESCRIPTION: 📢 L'AFT Transport et Logistique Normandie sera présente ces 1er et 2 avril prochains à l'Aigle, pour une nouvelle&nbsp;étape des "Métiers en Tournée" organisée par l' Agence Régionale de l'Orientation et des Métiers&nbsp;!

&nbsp;
END:VEVENT
END:VCALENDAR
