BEGIN:VCALENDAR
VERSION:2.0
METHOD:PUBLISH
X-WR-CALNAME;VALUE=TEXT:Agenda #7424
PRODID:-//Drupal iCal API//EN
BEGIN:VEVENT
SUMMARY: Orientation - Travail du projet professionnel - Valorisation des Métiers
DTSTART: 20250408T070000
DTEND: 20250408T103000
DESCRIPTION: L'AFT Transport et Logistique Normandie accompagnera à nouveau les jeunes du dispositif Pro'Pulse à Vernon dans le cadre du travail de leur projet professionnel le 8 avril prochain !
END:VEVENT
END:VCALENDAR
