BEGIN:VCALENDAR
VERSION:2.0
METHOD:PUBLISH
X-WR-CALNAME;VALUE=TEXT:Agenda #7429
PRODID:-//Drupal iCal API//EN
BEGIN:VEVENT
SUMMARY: CRFPTL Normandie Avril 2025
DTSTART: 20250424T070000
DTEND: 20250424T100000
DESCRIPTION: Le prochain CRFPTL normand se tiendra le 24 avril prochain à Pont l'Évêque de 09h00 à 12h00.

A l'ordre du jour :

1) Tour de table ; point sur l'activité Transport &amp; Logistique&nbsp;
2) Actualités AFT Transport &amp; Logistique&nbsp;
3) Tour de table des partenaires ; actualités, projets...
END:VEVENT
END:VCALENDAR
