BEGIN:VCALENDAR
VERSION:2.0
METHOD:PUBLISH
X-WR-CALNAME;VALUE=TEXT:Agenda #7431
PRODID:-//Drupal iCal API//EN
BEGIN:VEVENT
SUMMARY: Valorisation des métiers auprès des 4ème/3ème du collège de Breteuil (27)
DTSTART: 20250520T060000
DTEND: 20250520T100000
DESCRIPTION: L'AFT Transport et Logistique Normandie se rendra au sein du Collège de Breteuil dans l'Eure le 20 mai prochain, afin de valoriser les métiers de la branche auprès des classes de 4ème et de 3ème de l'établissement !

Une nouvelle&nbsp;occasion&nbsp;de présenter les différents métiers du Transport et de la Logistique aux&nbsp;élèves de collège, qui s'apprêtent pour certains à formuler leurs choix d'orientation !
END:VEVENT
END:VCALENDAR
