BEGIN:VCALENDAR
VERSION:2.0
METHOD:PUBLISH
X-WR-CALNAME;VALUE=TEXT:Agenda #7432
PRODID:-//Drupal iCal API//EN
BEGIN:VEVENT
SUMMARY: Coaching d'entretiens avec l'Ecole de la 2ème Chance d'Hérouville Saint Clair
DTSTART: 20250522T113000
DTEND: 20250522T150000
DESCRIPTION: L'AFT Transport et Logistique Normandie participera à la&nbsp;séance&nbsp;de coaching d'entretiens du 22 mai prochain,&nbsp;au bénéfice des jeunes accompagnés par l'École de la 2ème Chance&nbsp;Normandie basée à Hérouville Saint Clair !&nbsp;
END:VEVENT
END:VCALENDAR
