BEGIN:VCALENDAR
VERSION:2.0
METHOD:PUBLISH
X-WR-CALNAME;VALUE=TEXT:Agenda #7534
PRODID:-//Drupal iCal API//EN
BEGIN:VEVENT
SUMMARY: Information collective à la Mission Locale de Saverne
DTSTART: 20250611T080000
DTEND: 20250611T100000
DESCRIPTION: Les jeunes de la Mission locale découvrent les métiers du transport et de la logistique.
END:VEVENT
BEGIN:VEVENT
SUMMARY: Information collective à la Mission Locale de Saverne
DTSTART: 20250611T080000
DTEND: 20250611T100000
DESCRIPTION: Les jeunes de la Mission locale découvrent les métiers du transport et de la logistique.
END:VEVENT
BEGIN:VEVENT
SUMMARY: Information collective à la Mission Locale de Saverne
DTSTART: 20250611T080000
DTEND: 20250611T100000
DESCRIPTION: Les jeunes de la Mission locale découvrent les métiers du transport et de la logistique.
END:VEVENT
END:VCALENDAR
