BEGIN:VCALENDAR
VERSION:2.0
METHOD:PUBLISH
X-WR-CALNAME;VALUE=TEXT:Agenda #7578
PRODID:-//Drupal iCal API//EN
BEGIN:VEVENT
SUMMARY: Gallargues : Présentation des métiers de la logistique et visite de l'entreprise BASTIDE MEDICAL
DTSTART: 20250623T120000
DTEND: 20250623T120000
DESCRIPTION: Dans le cadre de la semaine Transport Logistique de France Travail, l'AFT Occitanie présentera en partenariat avec le CLEE du Gard,&nbsp;les métiers de la logistique&nbsp;aux demandeurs d'emploi avec une visite de l'entreprise BASTIDE MEDICAL le Lundi 23 juin à 14h.
END:VEVENT
BEGIN:VEVENT
SUMMARY: Gallargues : Présentation des métiers de la logistique et visite de l'entreprise BASTIDE MEDICAL
DTSTART: 20250623T120000
DTEND: 20250623T120000
DESCRIPTION: Dans le cadre de la semaine Transport Logistique de France Travail, l'AFT Occitanie présentera en partenariat avec le CLEE du Gard,&nbsp;les métiers de la logistique&nbsp;aux demandeurs d'emploi avec une visite de l'entreprise BASTIDE MEDICAL le Lundi 23 juin à 14h.
END:VEVENT
BEGIN:VEVENT
SUMMARY: Gallargues : Présentation des métiers de la logistique et visite de l'entreprise BASTIDE MEDICAL
DTSTART: 20250623T120000
DTEND: 20250623T120000
DESCRIPTION: Dans le cadre de la semaine Transport Logistique de France Travail, l'AFT Occitanie présentera en partenariat avec le CLEE du Gard,&nbsp;les métiers de la logistique&nbsp;aux demandeurs d'emploi avec une visite de l'entreprise BASTIDE MEDICAL le Lundi 23 juin à 14h.
END:VEVENT
END:VCALENDAR
