BEGIN:VCALENDAR
VERSION:2.0
METHOD:PUBLISH
X-WR-CALNAME;VALUE=TEXT:Agenda #7579
PRODID:-//Drupal iCal API//EN
BEGIN:VEVENT
SUMMARY: Webinaire : Découverte du secteur du transport : Opportunités et perspectives
DTSTART: 20250613T113000
DTEND: 20250613T113000
DESCRIPTION: Dans le cadre de la semaine Transport Logistique de France Travail, l'AFT Occitanie animera un webinaire intitulé : "Découverte du secteur du transport : Opportunités et perspectives" le vendredi 13 juin de 13h30 à 14h30 à destination des conseillers France Travail.&nbsp;

&nbsp;
END:VEVENT
BEGIN:VEVENT
SUMMARY: Webinaire : Découverte du secteur du transport : Opportunités et perspectives
DTSTART: 20250613T113000
DTEND: 20250613T113000
DESCRIPTION: Dans le cadre de la semaine Transport Logistique de France Travail, l'AFT Occitanie animera un webinaire intitulé : "Découverte du secteur du transport : Opportunités et perspectives" le vendredi 13 juin de 13h30 à 14h30 à destination des conseillers France Travail.&nbsp;

&nbsp;
END:VEVENT
END:VCALENDAR
