BEGIN:VCALENDAR
VERSION:2.0
METHOD:PUBLISH
X-WR-CALNAME;VALUE=TEXT:Agenda #7580
PRODID:-//Drupal iCal API//EN
BEGIN:VEVENT
SUMMARY: Dialogue avec 1 Pro Spécial Live Logistique - Les métiers en direct d'un entrepôt logistique
DTSTART: 20250617T113000
DTEND: 20250617T113000
DESCRIPTION: Dans le cadre de la semaine Transport Logistique de France Travail, participez&nbsp;en direct à un Spécial live LOGISTIQUE avec l'entreprise GEODIS de Bruges, le 17 juin prochain de 13h30 à 15h30 &nbsp;&nbsp;

Vous êtes en recherche d'emploi, conseiller.ère emploi/formation, salarié.e, étudiant.e... et&nbsp;curieux de connaitre ce qui se cache derrière les métiers du transport et logistique ?

Inscrivez vous dès maintenant&nbsp;

Je m'inscris&nbsp;
&nbsp;
END:VEVENT
BEGIN:VEVENT
SUMMARY: Dialogue avec 1 Pro Spécial Live Logistique - Les métiers en direct d'un entrepôt logistique
DTSTART: 20250617T113000
DTEND: 20250617T113000
DESCRIPTION: Dans le cadre de la semaine Transport Logistique de France Travail, participez&nbsp;en direct à un Spécial live LOGISTIQUE avec l'entreprise GEODIS de Bruges, le 17 juin prochain de 13h30 à 15h30 &nbsp;&nbsp;

Vous êtes en recherche d'emploi, conseiller.ère emploi/formation, salarié.e, étudiant.e... et&nbsp;curieux de connaitre ce qui se cache derrière les métiers du transport et logistique ?

Inscrivez vous dès maintenant&nbsp;

Je m'inscris&nbsp;
&nbsp;
END:VEVENT
BEGIN:VEVENT
SUMMARY: Dialogue avec 1 Pro Spécial Live Logistique - Les métiers en direct d'un entrepôt logistique
DTSTART: 20250617T113000
DTEND: 20250617T113000
DESCRIPTION: Dans le cadre de la semaine Transport Logistique de France Travail, participez&nbsp;en direct à un Spécial live LOGISTIQUE avec l'entreprise GEODIS de Bruges, le 17 juin prochain de 13h30 à 15h30 &nbsp;&nbsp;

Vous êtes en recherche d'emploi, conseiller.ère emploi/formation, salarié.e, étudiant.e... et&nbsp;curieux de connaitre ce qui se cache derrière les métiers du transport et logistique ?

Inscrivez vous dès maintenant&nbsp;

Je m'inscris&nbsp;
&nbsp;
END:VEVENT
BEGIN:VEVENT
SUMMARY: Dialogue avec 1 Pro Spécial Live Logistique - Les métiers en direct d'un entrepôt logistique
DTSTART: 20250617T113000
DTEND: 20250617T113000
DESCRIPTION: Dans le cadre de la semaine Transport Logistique de France Travail, participez&nbsp;en direct à un Spécial live LOGISTIQUE avec l'entreprise GEODIS de Bruges, le 17 juin prochain de 13h30 à 15h30 &nbsp;&nbsp;

Vous êtes en recherche d'emploi, conseiller.ère emploi/formation, salarié.e, étudiant.e... et&nbsp;curieux de connaitre ce qui se cache derrière les métiers du transport et logistique ?

Inscrivez vous dès maintenant&nbsp;

Je m'inscris&nbsp;
&nbsp;
END:VEVENT
END:VCALENDAR
