BEGIN:VCALENDAR
VERSION:2.0
METHOD:PUBLISH
X-WR-CALNAME;VALUE=TEXT:Agenda #997
PRODID:-//Drupal iCal API//EN
BEGIN:VEVENT
SUMMARY: Gueret : Cité des métiers
DTSTART: 20180923T070000
DTEND: 20180923T160000
DESCRIPTION: Information collective le VENDREDI 23 FEVRIER 2018 à 9 h 00 - site associé de la Cité des Métiers - place du Conventionnel Huguet à GUERET
END:VEVENT
BEGIN:VEVENT
SUMMARY: Gueret : Cité des métiers
DTSTART: 20180923T070000
DTEND: 20180923T160000
DESCRIPTION: Information collective le VENDREDI 23 FEVRIER 2018 à 9 h 00 - site associé de la Cité des Métiers - place du Conventionnel Huguet à GUERET
END:VEVENT
BEGIN:VEVENT
SUMMARY: Gueret : Cité des métiers
DTSTART: 20180923T070000
DTEND: 20180923T160000
DESCRIPTION: Information collective le VENDREDI 23 FEVRIER 2018 à 9 h 00 - site associé de la Cité des Métiers - place du Conventionnel Huguet à GUERET
END:VEVENT
END:VCALENDAR
